BEGIN:VCALENDAR
VERSION:2.0
PRODID:spatie/icalendar-generator
DESCRIPTION:Veranstaltungen von Stadtmission Frankfurt Nied e. V.
X-WR-CALDESC:Veranstaltungen von Stadtmission Frankfurt Nied e. V.
REFRESH-INTERVAL;VALUE=DURATION:PT1440M
X-PUBLISHED-TTL:PT1440M
BEGIN:VTIMEZONE
TZID:Etc/GMT+0
BEGIN:STANDARD
DTSTART:20250709T100000Z
TZOFFSETFROM:+0000
TZOFFSETTO:+0000
END:STANDARD
END:VTIMEZONE
BEGIN:VTIMEZONE
TZID:UTC
BEGIN:STANDARD
DTSTART:20250725T235857Z
TZOFFSETFROM:+0000
TZOFFSETTO:+0000
END:STANDARD
END:VTIMEZONE
BEGIN:VEVENT
UID:564-216
DTSTAMP:20260421T235857Z
SUMMARY:Gottesdienst am Ostersonntag für Klein &amp;amp\; Groß
LOCATION:Stadtmission Frankfurt-Nied Lotzstraße 54  Frankfurt am Main Hess
 en 65934
ORGANIZER;CN=Kristina Peters:MAILTO:kristina.dietz@gmx.de
DTSTART;TZID=Etc/GMT+0:20260405T100000
DTEND;TZID=Etc/GMT+0:20260405T110000
X-ALT-DESC;FMTTYPE=TEXT/HTML:
CATEGORIES:Gottesdienst
URL;VALUE=URI:https://stadtmission-nied.de/mc-events/gottesdienst-am-osters
 onntag-fuer-klein-gross-2/
METHOD:PUBLISH
END:VEVENT
END:VCALENDAR