BEGIN:VCALENDAR
VERSION:2.0
PRODID:spatie/icalendar-generator
DESCRIPTION:Veranstaltungen von Stadtmission Frankfurt Nied e. V.
X-WR-CALDESC:Veranstaltungen von Stadtmission Frankfurt Nied e. V.
REFRESH-INTERVAL;VALUE=DURATION:PT1440M
X-PUBLISHED-TTL:PT1440M
BEGIN:VTIMEZONE
TZID:Etc/GMT+0
BEGIN:STANDARD
DTSTART:20250209T193000Z
TZOFFSETFROM:+0000
TZOFFSETTO:+0000
END:STANDARD
END:VTIMEZONE
BEGIN:VTIMEZONE
TZID:UTC
BEGIN:STANDARD
DTSTART:20250724T072850Z
TZOFFSETFROM:+0000
TZOFFSETTO:+0000
END:STANDARD
END:VTIMEZONE
BEGIN:VEVENT
UID:511-170
DTSTAMP:20260420T072850Z
SUMMARY:Kleingruppe - Emmaus
LOCATION:Stadtmission Frankfurt-Nied Lotzstraße 54  Frankfurt am Main Hess
 en 65934
ORGANIZER;CN=Michael Christian Diehl:MAILTO:pastor@stadtmission-nied.de
DTSTART;TZID=Etc/GMT+0:20251106T193000
DTEND;TZID=Etc/GMT+0:20251106T203000
X-ALT-DESC;FMTTYPE=TEXT/HTML:
CATEGORIES:Bibelkreis
URL;VALUE=URI:https://stadtmission-nied.de/mc-events/kleingruppe-emmaus-2/
METHOD:PUBLISH
END:VEVENT
END:VCALENDAR