BEGIN:VCALENDAR
VERSION:2.0
PRODID:spatie/icalendar-generator
DESCRIPTION:Veranstaltungen von Stadtmission Frankfurt Nied e. V.
X-WR-CALDESC:Veranstaltungen von Stadtmission Frankfurt Nied e. V.
REFRESH-INTERVAL;VALUE=DURATION:PT1440M
X-PUBLISHED-TTL:PT1440M
BEGIN:VTIMEZONE
TZID:Etc/GMT+0
BEGIN:STANDARD
DTSTART:20241030T000000Z
TZOFFSETFROM:+0000
TZOFFSETTO:+0000
END:STANDARD
END:VTIMEZONE
BEGIN:VTIMEZONE
TZID:UTC
BEGIN:STANDARD
DTSTART:20250725T235921Z
TZOFFSETFROM:+0000
TZOFFSETTO:+0000
END:STANDARD
END:VTIMEZONE
BEGIN:VEVENT
UID:488-158
DTSTAMP:20260421T235921Z
SUMMARY:Sommerpause
LOCATION:Stadtmission Frankfurt-Nied Lotzstraße 54  Frankfurt am Main Hess
 en 65934
ORGANIZER;CN=Kristina Peters:MAILTO:kristina.dietz@gmx.de
DTSTART;TZID=Etc/GMT+0;VALUE=DATE:20250727
DTEND;TZID=Etc/GMT+0;VALUE=DATE:20250811
X-ALT-DESC;FMTTYPE=TEXT/HTML:Es finden keine Gottesdienste und Termine in d
 er Stadtmission statt.
CATEGORIES:Geschlossen
URL;VALUE=URI:https://stadtmission-nied.de/mc-events/sommerpause/
METHOD:PUBLISH
END:VEVENT
END:VCALENDAR