BEGIN:VCALENDAR
VERSION:2.0
PRODID:spatie/icalendar-generator
DESCRIPTION:Veranstaltungen von Stadtmission Frankfurt Nied e. V.
X-WR-CALDESC:Veranstaltungen von Stadtmission Frankfurt Nied e. V.
REFRESH-INTERVAL;VALUE=DURATION:PT1440M
X-PUBLISHED-TTL:PT1440M
BEGIN:VTIMEZONE
TZID:Etc/GMT+0
BEGIN:STANDARD
DTSTART:20240724T083000Z
TZOFFSETFROM:+0000
TZOFFSETTO:+0000
END:STANDARD
END:VTIMEZONE
BEGIN:VTIMEZONE
TZID:UTC
BEGIN:STANDARD
DTSTART:20250724T072820Z
TZOFFSETFROM:+0000
TZOFFSETTO:+0000
END:STANDARD
END:VTIMEZONE
BEGIN:VEVENT
UID:474-156
DTSTAMP:20260420T072820Z
SUMMARY:Osterfrühstück
LOCATION:Stadtmission Frankfurt-Nied Lotzstraße 54  Frankfurt am Main Hess
 en 65934
ORGANIZER;CN=Kristina Peters:MAILTO:kristina.dietz@gmx.de
DTSTART;TZID=Etc/GMT+0:20250420T083000
DTEND;TZID=Etc/GMT+0:20250420T100000
X-ALT-DESC;FMTTYPE=TEXT/HTML:Bitte bei Natalie Schlitt anmelden: natalie-sc
 hlitt@web.de
CATEGORIES:Aktion
URL;VALUE=URI:https://stadtmission-nied.de/mc-events/osterfruehstueck/
METHOD:PUBLISH
END:VEVENT
END:VCALENDAR