BEGIN:VCALENDAR
VERSION:2.0
PRODID:spatie/icalendar-generator
DESCRIPTION:Veranstaltungen von Stadtmission Frankfurt Nied e. V.
X-WR-CALDESC:Veranstaltungen von Stadtmission Frankfurt Nied e. V.
REFRESH-INTERVAL;VALUE=DURATION:PT1440M
X-PUBLISHED-TTL:PT1440M
BEGIN:VTIMEZONE
TZID:Etc/GMT+0
BEGIN:STANDARD
DTSTART:20220227T193000Z
TZOFFSETFROM:+0000
TZOFFSETTO:+0000
END:STANDARD
END:VTIMEZONE
BEGIN:VTIMEZONE
TZID:UTC
BEGIN:STANDARD
DTSTART:20250726T000109Z
TZOFFSETFROM:+0000
TZOFFSETTO:+0000
END:STANDARD
END:VTIMEZONE
BEGIN:VEVENT
UID:96-51
DTSTAMP:20260422T000109Z
SUMMARY:Filmabend \"The Chosen\" Staffel 2 - Folge 5&amp;amp\;6
LOCATION:
ORGANIZER;CN=Kristina Peters:MAILTO:kristina.dietz@gmx.de
DTSTART;TZID=Etc/GMT+0:20221124T193000
DTEND;TZID=Etc/GMT+0:20221124T220000
X-ALT-DESC;FMTTYPE=TEXT/HTML:
CATEGORIES:Erwachsene
URL;VALUE=URI:https://stadtmission-nied.de/mc-events/filmabend-the-chosen-s
 taffel-2-folge-56/
METHOD:PUBLISH
END:VEVENT
END:VCALENDAR