BEGIN:VCALENDAR
VERSION:2.0
PRODID:spatie/icalendar-generator
DESCRIPTION:Veranstaltungen von Stadtmission Frankfurt Nied e. V.
X-WR-CALDESC:Veranstaltungen von Stadtmission Frankfurt Nied e. V.
REFRESH-INTERVAL;VALUE=DURATION:PT1440M
X-PUBLISHED-TTL:PT1440M
BEGIN:VTIMEZONE
TZID:Etc/GMT+0
BEGIN:STANDARD
DTSTART:20220109T193000Z
TZOFFSETFROM:+0000
TZOFFSETTO:+0000
END:STANDARD
END:VTIMEZONE
BEGIN:VTIMEZONE
TZID:UTC
BEGIN:STANDARD
DTSTART:20250726T095929Z
TZOFFSETFROM:+0000
TZOFFSETTO:+0000
END:STANDARD
END:VTIMEZONE
BEGIN:VEVENT
UID:91-46
DTSTAMP:20260422T095929Z
SUMMARY:Themenabend \"Fürsorge für Gottes Schöpfung\" Teil 1
LOCATION:Stadtmission Frankfurt-Nied Lotzstraße 54  Frankfurt am Main Hess
 en 65934
ORGANIZER;CN=Kristina Peters:MAILTO:kristina.dietz@gmx.de
DTSTART;TZID=Etc/GMT+0:20221006T193000
DTEND;TZID=Etc/GMT+0:20221006T210000
X-ALT-DESC;FMTTYPE=TEXT/HTML:
CATEGORIES:Erwachsene
URL;VALUE=URI:https://stadtmission-nied.de/mc-events/themenabend-fuersorge-
 fuer-gottes-schoepfung-teil-1/
METHOD:PUBLISH
END:VEVENT
END:VCALENDAR