BEGIN:VCALENDAR
VERSION:2.0
PRODID:spatie/icalendar-generator
DESCRIPTION:Veranstaltungen von Stadtmission Frankfurt Nied e. V.
X-WR-CALDESC:Veranstaltungen von Stadtmission Frankfurt Nied e. V.
REFRESH-INTERVAL;VALUE=DURATION:PT1440M
X-PUBLISHED-TTL:PT1440M
BEGIN:VTIMEZONE
TZID:Etc/GMT+0
BEGIN:STANDARD
DTSTART:20250727T160000Z
TZOFFSETFROM:+0000
TZOFFSETTO:+0000
END:STANDARD
END:VTIMEZONE
BEGIN:VTIMEZONE
TZID:UTC
BEGIN:STANDARD
DTSTART:20250726T170813Z
TZOFFSETFROM:+0000
TZOFFSETTO:+0000
END:STANDARD
END:VTIMEZONE
BEGIN:VEVENT
UID:533-186
DTSTAMP:20260422T170813Z
SUMMARY:Bibelcafé
LOCATION:Begegnungsstätte der Seniorenwohnanlage Birminghamstr. 20  Frankf
 urt am Main  65934
ORGANIZER;CN=admin:MAILTO:yannik.stenzel@me.com
DTSTART;TZID=Etc/GMT+0:20260423T160000
DTEND;TZID=Etc/GMT+0:20260423T173000
X-ALT-DESC;FMTTYPE=TEXT/HTML:Ein bunter Themennachmittag für Senioren: Beg
 inn um 16 Uhr in der Begegnungsstätte der Seniorenwohnanlage (Birminghams
 tr. 20). Jeder ist willkommen. Eine Anmeldung ist nicht erforderlich.
CATEGORIES:Senioren
URL;VALUE=URI:https://stadtmission-nied.de/mc-events/bibelcafe-12/
METHOD:PUBLISH
END:VEVENT
END:VCALENDAR