BEGIN:VCALENDAR
VERSION:2.0
PRODID:spatie/icalendar-generator
DESCRIPTION:Veranstaltungen von Stadtmission Frankfurt Nied e. V.
X-WR-CALDESC:Veranstaltungen von Stadtmission Frankfurt Nied e. V.
REFRESH-INTERVAL;VALUE=DURATION:PT1440M
X-PUBLISHED-TTL:PT1440M
BEGIN:VTIMEZONE
TZID:Etc/GMT+0
BEGIN:STANDARD
DTSTART:20210714T170000Z
TZOFFSETFROM:+0000
TZOFFSETTO:+0000
END:STANDARD
END:VTIMEZONE
BEGIN:VTIMEZONE
TZID:UTC
BEGIN:STANDARD
DTSTART:20250729T030610Z
TZOFFSETFROM:+0000
TZOFFSETTO:+0000
END:STANDARD
END:VTIMEZONE
BEGIN:VEVENT
UID:51-32
DTSTAMP:20260425T030610Z
SUMMARY:Abendgottesdienst
LOCATION:
ORGANIZER;CN=Kristina Peters:MAILTO:kristina.dietz@gmx.de
DTSTART;TZID=Etc/GMT+0:20220410T170000
DTEND;TZID=Etc/GMT+0:20220410T180000
X-ALT-DESC;FMTTYPE=TEXT/HTML:
CATEGORIES:Gottesdienst
URL;VALUE=URI:https://stadtmission-nied.de/mc-events/abendgottesdienst-3/
METHOD:PUBLISH
END:VEVENT
END:VCALENDAR