BEGIN:VCALENDAR
VERSION:2.0
PRODID:spatie/icalendar-generator
DESCRIPTION:Veranstaltungen von Stadtmission Frankfurt Nied e. V.
X-WR-CALDESC:Veranstaltungen von Stadtmission Frankfurt Nied e. V.
REFRESH-INTERVAL;VALUE=DURATION:PT1440M
X-PUBLISHED-TTL:PT1440M
BEGIN:VTIMEZONE
TZID:Etc/GMT+0
BEGIN:STANDARD
DTSTART:20240723T140000Z
TZOFFSETFROM:+0000
TZOFFSETTO:+0000
END:STANDARD
END:VTIMEZONE
BEGIN:VTIMEZONE
TZID:UTC
BEGIN:STANDARD
DTSTART:20250724T041011Z
TZOFFSETFROM:+0000
TZOFFSETTO:+0000
END:STANDARD
END:VTIMEZONE
BEGIN:VEVENT
UID:473-155
DTSTAMP:20260420T041011Z
SUMMARY:Ostereierfärben
LOCATION:Stadtmission Frankfurt-Nied Lotzstraße 54  Frankfurt am Main Hess
 en 65934
ORGANIZER;CN=Kristina Peters:MAILTO:kristina.dietz@gmx.de
DTSTART;TZID=Etc/GMT+0:20250419T140000
DTEND;TZID=Etc/GMT+0:20250419T160000
X-ALT-DESC;FMTTYPE=TEXT/HTML:Herzliche Einladung zum Ostereierfärben. Wich
 tig: Bringt eure rohen Eier selber mit! Alle weiteren Informationen im Fly
 er.
CATEGORIES:Aktion
URL;VALUE=URI:https://stadtmission-nied.de/mc-events/ostereierfaerben/
METHOD:PUBLISH
END:VEVENT
END:VCALENDAR