BEGIN:VCALENDAR
VERSION:2.0
PRODID:spatie/icalendar-generator
DESCRIPTION:Veranstaltungen von Stadtmission Frankfurt Nied e. V.
X-WR-CALDESC:Veranstaltungen von Stadtmission Frankfurt Nied e. V.
REFRESH-INTERVAL;VALUE=DURATION:PT1440M
X-PUBLISHED-TTL:PT1440M
BEGIN:VTIMEZONE
TZID:Etc/GMT+0
BEGIN:STANDARD
DTSTART:20240405T180000Z
TZOFFSETFROM:+0000
TZOFFSETTO:+0000
END:STANDARD
END:VTIMEZONE
BEGIN:VTIMEZONE
TZID:UTC
BEGIN:STANDARD
DTSTART:20250726T004907Z
TZOFFSETFROM:+0000
TZOFFSETTO:+0000
END:STANDARD
END:VTIMEZONE
BEGIN:VEVENT
UID:413-128
DTSTAMP:20260422T004907Z
SUMMARY:Andacht zum Jahresabschluss
LOCATION:Stadtmission Frankfurt-Nied Lotzstraße 54  Frankfurt am Main Hess
 en 65934
ORGANIZER;CN=Kristina Peters:MAILTO:kristina.dietz@gmx.de
DTSTART;TZID=Etc/GMT+0:20241231T180000
DTEND;TZID=Etc/GMT+0:20241231T190000
X-ALT-DESC;FMTTYPE=TEXT/HTML:Gemeinsam wollen wir auf das vergangene Jahr z
 urückblicken\, es Gott hinhalten und ihm das neue Jahr anbefehlen.
CATEGORIES:Gottesdienst
URL;VALUE=URI:https://stadtmission-nied.de/mc-events/andacht-zum-jahresabsc
 hluss/
METHOD:PUBLISH
END:VEVENT
END:VCALENDAR