BEGIN:VCALENDAR
VERSION:2.0
PRODID:spatie/icalendar-generator
DESCRIPTION:Veranstaltungen von Stadtmission Frankfurt Nied e. V.
X-WR-CALDESC:Veranstaltungen von Stadtmission Frankfurt Nied e. V.
REFRESH-INTERVAL;VALUE=DURATION:PT1440M
X-PUBLISHED-TTL:PT1440M
BEGIN:VTIMEZONE
TZID:Etc/GMT+0
BEGIN:STANDARD
DTSTART:20211020T100000Z
TZOFFSETFROM:+0000
TZOFFSETTO:+0000
END:STANDARD
END:VTIMEZONE
BEGIN:VTIMEZONE
TZID:UTC
BEGIN:STANDARD
DTSTART:20250726T000057Z
TZOFFSETFROM:+0000
TZOFFSETTO:+0000
END:STANDARD
END:VTIMEZONE
BEGIN:VEVENT
UID:30-23
DTSTAMP:20260422T000057Z
SUMMARY:Gottesdienst mit Familie Bolanz
LOCATION:
ORGANIZER;CN=Kristina Peters:MAILTO:kristina.dietz@gmx.de
DTSTART;TZID=Etc/GMT+0:20220717T100000
DTEND;TZID=Etc/GMT+0:20220717T110000
X-ALT-DESC;FMTTYPE=TEXT/HTML:
CATEGORIES:Aktion
URL;VALUE=URI:https://stadtmission-nied.de/mc-events/gottesdienst-mit-famil
 ie-bolanz/
METHOD:PUBLISH
END:VEVENT
END:VCALENDAR