BEGIN:VCALENDAR
VERSION:2.0
PRODID:spatie/icalendar-generator
DESCRIPTION:Veranstaltungen von Stadtmission Frankfurt Nied e. V.
X-WR-CALDESC:Veranstaltungen von Stadtmission Frankfurt Nied e. V.
REFRESH-INTERVAL;VALUE=DURATION:PT1440M
X-PUBLISHED-TTL:PT1440M
BEGIN:VTIMEZONE
TZID:Etc/GMT+0
BEGIN:STANDARD
DTSTART:20230704T140000Z
TZOFFSETFROM:+0000
TZOFFSETTO:+0000
END:STANDARD
END:VTIMEZONE
BEGIN:VTIMEZONE
TZID:UTC
BEGIN:STANDARD
DTSTART:20250726T184707Z
TZOFFSETFROM:+0000
TZOFFSETTO:+0000
END:STANDARD
END:VTIMEZONE
BEGIN:VEVENT
UID:265-91
DTSTAMP:20260422T184707Z
SUMMARY:Ostereierfärben für Klein &amp;amp\; Groß
LOCATION:Stadtmission Frankfurt-Nied Lotzstraße 54  Frankfurt am Main Hess
 en 65934
ORGANIZER;CN=Kristina Peters:MAILTO:kristina.dietz@gmx.de
DTSTART;TZID=Etc/GMT+0:20240330T140000
DTEND;TZID=Etc/GMT+0:20240330T160000
X-ALT-DESC;FMTTYPE=TEXT/HTML:Zu Ostern bekommt jedes Ei eine andere Farbe. 
 Bei uns kannst du unkompliziert Ostereier färben. Wir zeigen dir und dein
 er Familie\, wie es geht. Wer mit dem Färben fertig ist\, kann seine Eier
  einpacken und mit nach Hause nehmen. Wer dann noch Zeit hat\, kann an uns
 erem Basteltisch kreativ werden. Am Ostersamstag sind wir ab&amp;hellip\;
CATEGORIES:Aktion,  Königskinder
URL;VALUE=URI:https://stadtmission-nied.de/mc-events/ostereierfaerben-fuer-
 klein-gross/
METHOD:PUBLISH
END:VEVENT
END:VCALENDAR