BEGIN:VCALENDAR
VERSION:2.0
PRODID:spatie/icalendar-generator
DESCRIPTION:Veranstaltungen von Stadtmission Frankfurt Nied e. V.
X-WR-CALDESC:Veranstaltungen von Stadtmission Frankfurt Nied e. V.
REFRESH-INTERVAL;VALUE=DURATION:PT1440M
X-PUBLISHED-TTL:PT1440M
BEGIN:VTIMEZONE
TZID:Etc/GMT+0
BEGIN:STANDARD
DTSTART:20230117T100000Z
TZOFFSETFROM:+0000
TZOFFSETTO:+0000
END:STANDARD
END:VTIMEZONE
BEGIN:VTIMEZONE
TZID:UTC
BEGIN:STANDARD
DTSTART:20250726T125727Z
TZOFFSETFROM:+0000
TZOFFSETTO:+0000
END:STANDARD
END:VTIMEZONE
BEGIN:VEVENT
UID:220-102
DTSTAMP:20260422T125727Z
SUMMARY:Woody Town
LOCATION:Stadtmission Frankfurt-Nied Lotzstraße 54  Frankfurt am Main Hess
 en 65934
ORGANIZER;CN=Kristina Peters:MAILTO:kristina.dietz@gmx.de
DTSTART;TZID=Etc/GMT+0:20231014T100000
DTEND;TZID=Etc/GMT+0:20231014T120000
X-ALT-DESC;FMTTYPE=TEXT/HTML:Woody Town - eine Baustelle mit tausenden Holz
 bausteinen Für Kinder von 5 bis 10 Jahren\, vom 12. bis 14. Oktober in de
 r Stadtmission Frankfurt-Nied\, Lotzstraße 54\, 65934 Nied Eine Anmeldung
  ist erforderlich. Die Teilnahme ist kostenlos. Die Eltern müssen währen
 d des Bauens nicht mit dabei sein. Es gibt aber die Möglichkeit zuzuschau
 en oder die Zeit&amp;hellip\;
CATEGORIES:Jugend,  Königskinder
URL;VALUE=URI:https://stadtmission-nied.de/mc-events/woody-town-3/
METHOD:PUBLISH
END:VEVENT
END:VCALENDAR